BEGIN:VCALENDAR
VERSION:2.0
PRODID:-//Heilig Geist, Ratingen - ECPv6.2.4//NONSGML v1.0//EN
CALSCALE:GREGORIAN
METHOD:PUBLISH
X-WR-CALNAME:Heilig Geist, Ratingen
X-ORIGINAL-URL:https://view-wp.heiliggeist-ratingen.de
X-WR-CALDESC:Veranstaltungen für Heilig Geist, Ratingen
REFRESH-INTERVAL;VALUE=DURATION:PT1H
X-Robots-Tag:noindex
X-PUBLISHED-TTL:PT1H
BEGIN:VTIMEZONE
TZID:Europe/Berlin
BEGIN:DAYLIGHT
TZOFFSETFROM:+0100
TZOFFSETTO:+0200
TZNAME:CEST
DTSTART:20260329T010000
END:DAYLIGHT
BEGIN:STANDARD
TZOFFSETFROM:+0200
TZOFFSETTO:+0100
TZNAME:CET
DTSTART:20261025T010000
END:STANDARD
END:VTIMEZONE
BEGIN:VEVENT
DTSTART;TZID=Europe/Berlin:20260103T100000
DTEND;TZID=Europe/Berlin:20260103T160000
DTSTAMP:20260423T112953
CREATED:20250630T174840Z
LAST-MODIFIED:20260103T144919Z
UID:15196-1767434400-1767456000@view-wp.heiliggeist-ratingen.de
SUMMARY:KAB St. Josef: Krippenfahrt an den Niederrhein im 50. Jubiläumsjahr\, mit Mittagessen und Kaffeetrinken im Kloster Langwaden
DESCRIPTION:– mit Voranmeldung –
URL:https://view-wp.heiliggeist-ratingen.de/event/kab-st-josef-krippenfahrt-an-den-niederrhein-im-50-jubilaeumsjahr-mit-mittagessen-und-kaffeetrinken-im-kloster-langwaden
LOCATION:ab Bushaltestelle Dieselstraße 5 (Pizzaria)
END:VEVENT
BEGIN:VEVENT
DTSTART;TZID=Europe/Berlin:20260104T110000
DTEND;TZID=Europe/Berlin:20260104T123000
DTSTAMP:20260423T112953
CREATED:20240104T235247Z
LAST-MODIFIED:20260104T111910Z
UID:8342-1767524400-1767529800@view-wp.heiliggeist-ratingen.de
SUMMARY:Gemeindecafé der Messdiener
DESCRIPTION:
URL:https://view-wp.heiliggeist-ratingen.de/event/gemeindecafe-der-messdiener-27
LOCATION:Pfarrsaal St. Marien\, Marienstraße 4A\, 40880 Ratingen\, Deutschland
END:VEVENT
BEGIN:VEVENT
DTSTART;TZID=Europe/Berlin:20260104T113000
DTEND;TZID=Europe/Berlin:20260104T123000
DTSTAMP:20260423T112953
CREATED:20251105T121912Z
LAST-MODIFIED:20260104T111910Z
UID:17711-1767526200-1767529800@view-wp.heiliggeist-ratingen.de
SUMMARY:Aussendungsmesse der Sternsinger
DESCRIPTION:
URL:https://view-wp.heiliggeist-ratingen.de/event/aussendungsmesse-der-sternsinger
LOCATION:Heilig Geist Kirche\, Maximilian-Kolbe-Platz\, 40880 Ratingen
END:VEVENT
BEGIN:VEVENT
DTSTART;TZID=Europe/Berlin:20260106T100000
DTEND;TZID=Europe/Berlin:20260106T110000
DTSTAMP:20260423T112953
CREATED:20251105T121912Z
LAST-MODIFIED:20260106T091911Z
UID:17712-1767693600-1767697200@view-wp.heiliggeist-ratingen.de
SUMMARY:Aussendungsmesse der Sternsinger
DESCRIPTION:
URL:https://view-wp.heiliggeist-ratingen.de/event/aussendungsmesse-der-sternsinger-2
LOCATION:St. Marien\, Marienstraße 6\, 40880 Ratingen\, Deutschland
END:VEVENT
BEGIN:VEVENT
DTSTART;TZID=Europe/Berlin:20260106T190000
DTEND;TZID=Europe/Berlin:20260106T200000
DTSTAMP:20260423T112953
CREATED:20251105T121913Z
LAST-MODIFIED:20260106T184911Z
UID:17713-1767726000-1767729600@view-wp.heiliggeist-ratingen.de
SUMMARY:Festmesse zu Dreikönige
DESCRIPTION:
URL:https://view-wp.heiliggeist-ratingen.de/event/festmesse-zu-dreikoenige
LOCATION:Heilig Geist Kirche\, Maximilian-Kolbe-Platz\, 40880 Ratingen
END:VEVENT
BEGIN:VEVENT
DTSTART;TZID=Europe/Berlin:20260107T091500
DTEND;TZID=Europe/Berlin:20260107T100000
DTSTAMP:20260423T112953
CREATED:20250102T100444Z
LAST-MODIFIED:20260107T083408Z
UID:9515-1767777300-1767780000@view-wp.heiliggeist-ratingen.de
SUMMARY:Seniorenmesse\, anschl. Seniorenfrühstück
DESCRIPTION:
URL:https://view-wp.heiliggeist-ratingen.de/event/seniorenmesse-anschl-seniorenfruehstueck-13
LOCATION:Heilig Geist Kirche\, 40880 Ratingen\, Deutschland
END:VEVENT
BEGIN:VEVENT
DTSTART;TZID=Europe/Berlin:20260107T150000
DTEND;TZID=Europe/Berlin:20260107T163000
DTSTAMP:20260423T112953
CREATED:20251211T112506Z
LAST-MODIFIED:20260107T143430Z
UID:18086-1767798000-1767803400@view-wp.heiliggeist-ratingen.de
SUMMARY:Ökum. Seniorenclub: Spielenachmittag
DESCRIPTION:
URL:https://view-wp.heiliggeist-ratingen.de/event/oekum-seniorenclub-spielenachmittag
LOCATION:Versöhnungskirche – Evangelische Kirchengemeinde Ratingen\, Maximilian-Kolbe-Platz 18b\, 40880 Ratingen\, Deutschland
END:VEVENT
BEGIN:VEVENT
DTSTART;TZID=Europe/Berlin:20260108T113000
DTEND;TZID=Europe/Berlin:20260108T123000
DTSTAMP:20260423T112953
CREATED:20250129T183448Z
LAST-MODIFIED:20260108T104913Z
UID:11229-1767871800-1767875400@view-wp.heiliggeist-ratingen.de
SUMMARY:SPÄTLESE-Spaß-Singers
DESCRIPTION:
URL:https://view-wp.heiliggeist-ratingen.de/event/spaetlese-spass-singers-254
LOCATION:Foyer Pfarrsaal Hl. Geist\, Maximilian-Kolbe-Platz\, 40880 Ratingen
END:VEVENT
BEGIN:VEVENT
DTSTART;TZID=Europe/Berlin:20260108T160000
DTEND;TZID=Europe/Berlin:20260108T180000
DTSTAMP:20260423T112953
CREATED:20260108T084910Z
LAST-MODIFIED:20260108T084910Z
UID:19014-1767888000-1767895200@view-wp.heiliggeist-ratingen.de
SUMMARY:Meditatives Tanzen
DESCRIPTION:
URL:https://view-wp.heiliggeist-ratingen.de/event/meditatives-tanzen-56
LOCATION:Pfarrsaal Heilig Geist\, Maximilian-Kolbe-Platz 40\, 40880 Ratingen\, Deutschland
END:VEVENT
BEGIN:VEVENT
DTSTART;TZID=Europe/Berlin:20260108T160000
DTEND;TZID=Europe/Berlin:20260108T180000
DTSTAMP:20260423T112953
CREATED:20260108T084910Z
LAST-MODIFIED:20260108T160427Z
UID:19013-1767888000-1767895200@view-wp.heiliggeist-ratingen.de
SUMMARY:Meditatives Tanzen
DESCRIPTION:
URL:https://view-wp.heiliggeist-ratingen.de/event/meditatives-tanzen-55
LOCATION:Pfarrsaal Heilig Geist\, Maximilian-Kolbe-Platz 40\, 40880 Ratingen\, Deutschland
END:VEVENT
BEGIN:VEVENT
DTSTART;TZID=Europe/Berlin:20260114T150000
DTEND;TZID=Europe/Berlin:20260114T163000
DTSTAMP:20260423T112953
CREATED:20251211T112506Z
LAST-MODIFIED:20260114T151910Z
UID:18087-1768402800-1768408200@view-wp.heiliggeist-ratingen.de
SUMMARY:Ökum. Seniorenclub: Leben im Iran
DESCRIPTION:
URL:https://view-wp.heiliggeist-ratingen.de/event/oekum-seniorenclub-leben-im-iran
LOCATION:Versöhnungskirche – Evangelische Kirchengemeinde Ratingen\, Maximilian-Kolbe-Platz 18b\, 40880 Ratingen\, Deutschland
END:VEVENT
BEGIN:VEVENT
DTSTART;TZID=Europe/Berlin:20260114T193000
DTEND;TZID=Europe/Berlin:20260114T213000
DTSTAMP:20260423T112953
CREATED:20260102T170411Z
LAST-MODIFIED:20260114T193412Z
UID:18754-1768419000-1768426200@view-wp.heiliggeist-ratingen.de
SUMMARY:Kontaktkreis 86: Filmabend
DESCRIPTION:
URL:https://view-wp.heiliggeist-ratingen.de/event/kontaktkreis-86-filmabend
LOCATION:Pfarrsaal Heilig Geist\, Maximilian-Kolbe-Platz 40\, 40880 Ratingen\, Deutschland
END:VEVENT
BEGIN:VEVENT
DTSTART;TZID=Europe/Berlin:20260114T193000
DTEND;TZID=Europe/Berlin:20260114T213000
DTSTAMP:20260423T112953
CREATED:20260105T204946Z
LAST-MODIFIED:20260114T193412Z
UID:18886-1768419000-1768426200@view-wp.heiliggeist-ratingen.de
SUMMARY:PGR Sitzung
DESCRIPTION:
URL:https://view-wp.heiliggeist-ratingen.de/event/pgr-sitzung-12
LOCATION:Pfarrsaal St. Marien\, Marienstraße 4A\, 40880 Ratingen\, Deutschland
END:VEVENT
BEGIN:VEVENT
DTSTART;TZID=Europe/Berlin:20260118T101500
DTEND;TZID=Europe/Berlin:20260118T111500
DTSTAMP:20260423T112953
CREATED:20251105T121913Z
LAST-MODIFIED:20260118T094909Z
UID:17714-1768731300-1768734900@view-wp.heiliggeist-ratingen.de
SUMMARY:Sternsingerabschlussmesse
DESCRIPTION:
URL:https://view-wp.heiliggeist-ratingen.de/event/sternsingerabschlussmesse
LOCATION:St. Marien\, Marienstraße 6\, 40880 Ratingen\, Deutschland
END:VEVENT
BEGIN:VEVENT
DTSTART;TZID=Europe/Berlin:20260118T113000
DTEND;TZID=Europe/Berlin:20260118T123000
DTSTAMP:20260423T112953
CREATED:20251105T121913Z
LAST-MODIFIED:20260118T104912Z
UID:17715-1768735800-1768739400@view-wp.heiliggeist-ratingen.de
SUMMARY:Sternsingerabschlussmesse
DESCRIPTION:
URL:https://view-wp.heiliggeist-ratingen.de/event/sternsingerabschlussmesse-2
LOCATION:Heilig Geist Kirche\, Maximilian-Kolbe-Platz\, 40880 Ratingen
END:VEVENT
BEGIN:VEVENT
DTSTART;TZID=Europe/Berlin:20260118T170000
DTEND;TZID=Europe/Berlin:20260118T180000
DTSTAMP:20260423T112953
CREATED:20251105T121913Z
LAST-MODIFIED:20260118T164910Z
UID:17716-1768755600-1768759200@view-wp.heiliggeist-ratingen.de
SUMMARY:Vesper\, anschl. Neujahrsempfang
DESCRIPTION:
URL:https://view-wp.heiliggeist-ratingen.de/event/vesper-anschl-neujahrsempfang-3
LOCATION:St. Marien\, Marienstraße 6\, 40880 Ratingen\, Deutschland
END:VEVENT
BEGIN:VEVENT
DTSTART;TZID=Europe/Berlin:20260119T150000
DTEND;TZID=Europe/Berlin:20260119T160000
DTSTAMP:20260423T112953
CREATED:20260102T170414Z
LAST-MODIFIED:20260119T134925Z
UID:18756-1768834800-1768838400@view-wp.heiliggeist-ratingen.de
SUMMARY:KAB St. Josef: Jahreshauptversammlung nur für Mitglieder
DESCRIPTION:
URL:https://view-wp.heiliggeist-ratingen.de/event/kab-st-josef-jahreshauptversammlung-nur-fuer-mitglieder-2
LOCATION:Pfarrsaal Heilig Geist\, Maximilian-Kolbe-Platz 40\, 40880 Ratingen\, Deutschland
END:VEVENT
BEGIN:VEVENT
DTSTART;TZID=Europe/Berlin:20260121T091500
DTEND;TZID=Europe/Berlin:20260121T100000
DTSTAMP:20260423T112953
CREATED:20240121T010428Z
LAST-MODIFIED:20260121T080419Z
UID:8410-1768986900-1768989600@view-wp.heiliggeist-ratingen.de
SUMMARY:Frauenmesse mit Gedenken an die Verstorbenen des letzten Jahres
DESCRIPTION:
URL:https://view-wp.heiliggeist-ratingen.de/event/frauenmesse-31
LOCATION:Heilig Geist Kirche\, 40880 Ratingen\, Deutschland
END:VEVENT
BEGIN:VEVENT
DTSTART;TZID=Europe/Berlin:20260121T150000
DTEND;TZID=Europe/Berlin:20260121T163000
DTSTAMP:20260423T112953
CREATED:20251211T112507Z
LAST-MODIFIED:20260121T151908Z
UID:18088-1769007600-1769013000@view-wp.heiliggeist-ratingen.de
SUMMARY:Ökum. Seniorenclub: "Abendmahl/Eucharistie\, die Mitte des Glaubens - Abendmahlsdarstellungen in der Kirchengeschichte" mit Pfr. i.R. Pohl
DESCRIPTION:
URL:https://view-wp.heiliggeist-ratingen.de/event/oekum-seniorenclub-abendmahl-eucharistie-die-mitte-des-glaubens-abendmahlsdarstellungen-in-der-kirchengeschichte-mit-pfr-i-r-pohl
LOCATION:Versöhnungskirche – Evangelische Kirchengemeinde Ratingen\, Maximilian-Kolbe-Platz 18b\, 40880 Ratingen\, Deutschland
END:VEVENT
BEGIN:VEVENT
DTSTART;TZID=Europe/Berlin:20260122T113000
DTEND;TZID=Europe/Berlin:20260122T123000
DTSTAMP:20260423T112953
CREATED:20250129T183448Z
LAST-MODIFIED:20260122T104909Z
UID:11230-1769081400-1769085000@view-wp.heiliggeist-ratingen.de
SUMMARY:SPÄTLESE-Spaß-Singers
DESCRIPTION:
URL:https://view-wp.heiliggeist-ratingen.de/event/spaetlese-spass-singers-255
LOCATION:Foyer Pfarrsaal Hl. Geist\, Maximilian-Kolbe-Platz\, 40880 Ratingen
END:VEVENT
BEGIN:VEVENT
DTSTART;TZID=Europe/Berlin:20260122T160000
DTEND;TZID=Europe/Berlin:20260122T180000
DTSTAMP:20260423T112953
CREATED:20260108T084912Z
LAST-MODIFIED:20260122T161939Z
UID:19015-1769097600-1769104800@view-wp.heiliggeist-ratingen.de
SUMMARY:Meditatives Tanzen
DESCRIPTION:
URL:https://view-wp.heiliggeist-ratingen.de/event/meditatives-tanzen-57
LOCATION:Pfarrsaal Heilig Geist\, Maximilian-Kolbe-Platz 40\, 40880 Ratingen\, Deutschland
END:VEVENT
BEGIN:VEVENT
DTSTART;TZID=Europe/Berlin:20260124T100000
DTEND;TZID=Europe/Berlin:20260124T140000
DTSTAMP:20260423T112953
CREATED:20251218T180045Z
LAST-MODIFIED:20260124T121918Z
UID:18274-1769248800-1769263200@view-wp.heiliggeist-ratingen.de
SUMMARY:Familiensamstag der Erstkommunionkinder
DESCRIPTION:
URL:https://view-wp.heiliggeist-ratingen.de/event/familiensamstag-der-erstkommunionkinder-3
LOCATION:Pfarrzentrum Heilig Geist\, Maximilian-Kolbe-Platz\, 40880 Ratingen
END:VEVENT
BEGIN:VEVENT
DTSTART;TZID=Europe/Berlin:20260128T150000
DTEND;TZID=Europe/Berlin:20260128T163000
DTSTAMP:20260423T112953
CREATED:20251211T112508Z
LAST-MODIFIED:20260128T144915Z
UID:18089-1769612400-1769617800@view-wp.heiliggeist-ratingen.de
SUMMARY:Ökum. Seniorenclub: Besuch von Pfr. Kern
DESCRIPTION:
URL:https://view-wp.heiliggeist-ratingen.de/event/oekum-seniorenclub-besuch-von-pfr-kern-2
LOCATION:Versöhnungskirche – Evangelische Kirchengemeinde Ratingen\, Maximilian-Kolbe-Platz 18b\, 40880 Ratingen\, Deutschland
END:VEVENT
END:VCALENDAR