BEGIN:VCALENDAR
VERSION:2.0
PRODID:-//Heilig Geist, Ratingen - ECPv6.2.4//NONSGML v1.0//EN
CALSCALE:GREGORIAN
METHOD:PUBLISH
X-ORIGINAL-URL:https://view-wp.heiliggeist-ratingen.de
X-WR-CALDESC:Veranstaltungen für Heilig Geist, Ratingen
REFRESH-INTERVAL;VALUE=DURATION:PT1H
X-Robots-Tag:noindex
X-PUBLISHED-TTL:PT1H
BEGIN:VTIMEZONE
TZID:Europe/Berlin
BEGIN:DAYLIGHT
TZOFFSETFROM:+0100
TZOFFSETTO:+0200
TZNAME:CEST
DTSTART:20250330T010000
END:DAYLIGHT
BEGIN:STANDARD
TZOFFSETFROM:+0200
TZOFFSETTO:+0100
TZNAME:CET
DTSTART:20251026T010000
END:STANDARD
END:VTIMEZONE
BEGIN:VEVENT
DTSTART;TZID=Europe/Berlin:20251203T091500
DTEND;TZID=Europe/Berlin:20251203T100000
DTSTAMP:20260423T131156
CREATED:20250102T100443Z
LAST-MODIFIED:20251118T003431Z
UID:9507-1764753300-1764756000@view-wp.heiliggeist-ratingen.de
SUMMARY:Seniorenmesse\, anschl. Seniorenfrühstück
DESCRIPTION:
URL:https://view-wp.heiliggeist-ratingen.de/event/seniorenmesse-anschl-seniorenfruehstueck-12
LOCATION:Heilig Geist Kirche\, 40880 Ratingen\, Deutschland
END:VEVENT
BEGIN:VEVENT
DTSTART;TZID=Europe/Berlin:20251203T150000
DTEND;TZID=Europe/Berlin:20251203T163000
DTSTAMP:20260423T131156
CREATED:20250630T174838Z
LAST-MODIFIED:20251118T003431Z
UID:15190-1764774000-1764779400@view-wp.heiliggeist-ratingen.de
SUMMARY:Ökum. Seniorenclub
DESCRIPTION:
URL:https://view-wp.heiliggeist-ratingen.de/event/oekum-seniorenclub-14
LOCATION:Versöhnungskirche – Evangelische Kirchengemeinde Ratingen\, Maximilian-Kolbe-Platz 18b\, 40880 Ratingen\, Deutschland
END:VEVENT
BEGIN:VEVENT
DTSTART;TZID=Europe/Berlin:20251203T150000
DTEND;TZID=Europe/Berlin:20251203T180000
DTSTAMP:20260423T131156
CREATED:20250102T100443Z
LAST-MODIFIED:20251118T003443Z
UID:9510-1764774000-1764784800@view-wp.heiliggeist-ratingen.de
SUMMARY:Frauen in St. Marien: Adventsfeier
DESCRIPTION:
URL:https://view-wp.heiliggeist-ratingen.de/event/frauen-in-st-marien-adventsfeier-2
LOCATION:Pfarrsaal St. Marien\, Marienstraße 4A\, 40880 Ratingen\, Deutschland
END:VEVENT
BEGIN:VEVENT
DTSTART;TZID=Europe/Berlin:20251207T110000
DTEND;TZID=Europe/Berlin:20251207T123000
DTSTAMP:20260423T131156
CREATED:20231207T223442Z
LAST-MODIFIED:20251118T003443Z
UID:8041-1765105200-1765110600@view-wp.heiliggeist-ratingen.de
SUMMARY:Gemeindecafé der Messdiener
DESCRIPTION:
URL:https://view-wp.heiliggeist-ratingen.de/event/gemeindecafe-der-messdiener-26
LOCATION:Pfarrsaal St. Marien\, Marienstraße 4A\, 40880 Ratingen\, Deutschland
END:VEVENT
BEGIN:VEVENT
DTSTART;TZID=Europe/Berlin:20251207T113000
DTEND;TZID=Europe/Berlin:20251207T123000
DTSTAMP:20260423T131156
CREATED:20250703T141929Z
LAST-MODIFIED:20251118T003443Z
UID:15339-1765107000-1765110600@view-wp.heiliggeist-ratingen.de
SUMMARY:Familienmesse gestaltet für Kinder und Kleinkinder
DESCRIPTION:
URL:https://view-wp.heiliggeist-ratingen.de/event/familienmesse-gestaltet-fuer-kinder-und-kleinkinder-4
LOCATION:Heilig Geist Kirche\, Maximilian-Kolbe-Platz\, 40880 Ratingen
END:VEVENT
BEGIN:VEVENT
DTSTART;TZID=Europe/Berlin:20251208T150000
DTEND;TZID=Europe/Berlin:20251208T170000
DTSTAMP:20260423T131156
CREATED:20250630T174839Z
LAST-MODIFIED:20251118T003443Z
UID:15191-1765206000-1765213200@view-wp.heiliggeist-ratingen.de
SUMMARY:KAB St. Josef: KAB-Adventsfeier (zum Ausklang des KAB-Jahres)
DESCRIPTION:– mit Voranmeldung –
URL:https://view-wp.heiliggeist-ratingen.de/event/kab-st-josef-kab-adventsfeier-zum-ausklang-des-kab-jahres
LOCATION:Pfarrsaal Heilig Geist\, Maximilian-Kolbe-Platz 40\, 40880 Ratingen\, Deutschland
END:VEVENT
BEGIN:VEVENT
DTSTART;TZID=Europe/Berlin:20251210T150000
DTEND;TZID=Europe/Berlin:20251210T163000
DTSTAMP:20260423T131156
CREATED:20250630T174839Z
LAST-MODIFIED:20251118T003443Z
UID:15192-1765378800-1765384200@view-wp.heiliggeist-ratingen.de
SUMMARY:Ökum. Seniorenclub
DESCRIPTION:
URL:https://view-wp.heiliggeist-ratingen.de/event/oekum-seniorenclub-15
LOCATION:Versöhnungskirche – Evangelische Kirchengemeinde Ratingen\, Maximilian-Kolbe-Platz 18b\, 40880 Ratingen\, Deutschland
END:VEVENT
BEGIN:VEVENT
DTSTART;TZID=Europe/Berlin:20251210T193000
DTEND;TZID=Europe/Berlin:20251210T213000
DTSTAMP:20260423T131156
CREATED:20250702T164935Z
LAST-MODIFIED:20251118T003443Z
UID:15286-1765395000-1765402200@view-wp.heiliggeist-ratingen.de
SUMMARY:Kontaktkreis 86: Adventliches Treffe
DESCRIPTION:
URL:https://view-wp.heiliggeist-ratingen.de/event/kontaktkreis-86-adventliches-treffe
LOCATION:Foyer Pfarrsaal Hl. Geist\, Maximilian-Kolbe-Platz\, 40880 Ratingen
END:VEVENT
BEGIN:VEVENT
DTSTART;TZID=Europe/Berlin:20251211T113000
DTEND;TZID=Europe/Berlin:20251211T123000
DTSTAMP:20260423T131156
CREATED:20250129T183446Z
LAST-MODIFIED:20251211T112504Z
UID:11227-1765452600-1765456200@view-wp.heiliggeist-ratingen.de
SUMMARY:SPÄTLESE-Spaß-Singers
DESCRIPTION:
URL:https://view-wp.heiliggeist-ratingen.de/event/spaetlese-spass-singers-252
LOCATION:Foyer Pfarrsaal Hl. Geist\, Maximilian-Kolbe-Platz\, 40880 Ratingen
END:VEVENT
BEGIN:VEVENT
DTSTART;TZID=Europe/Berlin:20251211T160000
DTEND;TZID=Europe/Berlin:20251211T180000
DTSTAMP:20260423T131156
CREATED:20250102T100444Z
LAST-MODIFIED:20251211T164908Z
UID:9514-1765468800-1765476000@view-wp.heiliggeist-ratingen.de
SUMMARY:Meditatives Tanzen
DESCRIPTION:
URL:https://view-wp.heiliggeist-ratingen.de/event/meditatives-tanzen-54
LOCATION:Pfarrsaal Heilig Geist\, Maximilian-Kolbe-Platz 40\, 40880 Ratingen\, Deutschland
END:VEVENT
BEGIN:VEVENT
DTSTART;TZID=Europe/Berlin:20251214T170000
DTEND;TZID=Europe/Berlin:20251214T180000
DTSTAMP:20260423T131156
CREATED:20251105T121909Z
LAST-MODIFIED:20251214T163409Z
UID:17697-1765731600-1765735200@view-wp.heiliggeist-ratingen.de
SUMMARY:Bußgottesdienst\, anschl. Beichtgelegenheit (auch in polnischer Sprache)
DESCRIPTION:
URL:https://view-wp.heiliggeist-ratingen.de/event/bussgottesdienst-anschl-beichtgelegenheit-auch-in-polnischer-sprache
LOCATION:Heilig Geist Kirche\, Maximilian-Kolbe-Platz\, 40880 Ratingen
END:VEVENT
BEGIN:VEVENT
DTSTART;TZID=Europe/Berlin:20251217T091500
DTEND;TZID=Europe/Berlin:20251217T100000
DTSTAMP:20260423T131156
CREATED:20231217T230442Z
LAST-MODIFIED:20251216T231909Z
UID:8097-1765962900-1765965600@view-wp.heiliggeist-ratingen.de
SUMMARY:Frauenmesse
DESCRIPTION:
URL:https://view-wp.heiliggeist-ratingen.de/event/frauenmesse-30
LOCATION:Heilig Geist Kirche\, 40880 Ratingen\, Deutschland
END:VEVENT
BEGIN:VEVENT
DTSTART;TZID=Europe/Berlin:20251217T100000
DTEND;TZID=Europe/Berlin:20251217T120000
DTSTAMP:20260423T131156
CREATED:20250703T095032Z
LAST-MODIFIED:20251216T231909Z
UID:15320-1765965600-1765972800@view-wp.heiliggeist-ratingen.de
SUMMARY:kfd und offener Frauentreff: Adventsfeier für alle Frauen
DESCRIPTION:
URL:https://view-wp.heiliggeist-ratingen.de/event/kfd-und-offener-frauentreff-adventsfeier-fuer-alle-frauen
LOCATION:Pfarrsaal Heilig Geist\, Maximilian-Kolbe-Platz 40\, 40880 Ratingen\, Deutschland
END:VEVENT
BEGIN:VEVENT
DTSTART;TZID=Europe/Berlin:20251217T150000
DTEND;TZID=Europe/Berlin:20251217T163000
DTSTAMP:20260423T131156
CREATED:20250630T174840Z
LAST-MODIFIED:20251216T231909Z
UID:15193-1765983600-1765989000@view-wp.heiliggeist-ratingen.de
SUMMARY:Ökum. Seniorenclub; Adventsfeier mit Pfr. Leithe und Pfr. Kern
DESCRIPTION:
URL:https://view-wp.heiliggeist-ratingen.de/event/oekum-seniorenclub-16
LOCATION:Versöhnungskirche – Evangelische Kirchengemeinde Ratingen\, Maximilian-Kolbe-Platz 18b\, 40880 Ratingen\, Deutschland
END:VEVENT
BEGIN:VEVENT
DTSTART;TZID=Europe/Berlin:20251218T180000
DTEND;TZID=Europe/Berlin:20251218T190000
DTSTAMP:20260423T131156
CREATED:20251105T121910Z
LAST-MODIFIED:20251216T231909Z
UID:17698-1766080800-1766084400@view-wp.heiliggeist-ratingen.de
SUMMARY:Bußgottesdienst\, anschl. Beichtgelegenheit (auch in polnischer Sprache)
DESCRIPTION:
URL:https://view-wp.heiliggeist-ratingen.de/event/bussgottesdienst-anschl-beichtgelegenheit-auch-in-polnischer-sprache-2
LOCATION:St. Marien\, Marienstraße 6\, 40880 Ratingen\, Deutschland
END:VEVENT
BEGIN:VEVENT
DTSTART;TZID=Europe/Berlin:20251224T143000
DTEND;TZID=Europe/Berlin:20251224T153000
DTSTAMP:20260423T131156
CREATED:20251105T121910Z
LAST-MODIFIED:20251224T140411Z
UID:17699-1766586600-1766590200@view-wp.heiliggeist-ratingen.de
SUMMARY:Wortgottesdienst für Kinder mit Krippenspiel
DESCRIPTION:
URL:https://view-wp.heiliggeist-ratingen.de/event/wortgottesdienst-fuer-kinder-mit-krippenspiel
LOCATION:Heilig Geist Kirche\, Maximilian-Kolbe-Platz\, 40880 Ratingen
END:VEVENT
BEGIN:VEVENT
DTSTART;TZID=Europe/Berlin:20251224T170000
DTEND;TZID=Europe/Berlin:20251224T180000
DTSTAMP:20260423T131156
CREATED:20251105T121910Z
LAST-MODIFIED:20251224T160413Z
UID:17700-1766595600-1766599200@view-wp.heiliggeist-ratingen.de
SUMMARY:Familienmesse zum Heiligen Abend
DESCRIPTION:
URL:https://view-wp.heiliggeist-ratingen.de/event/familienmesse-zum-heiligen-abend
LOCATION:St. Marien\, Marienstraße 6\, 40880 Ratingen\, Deutschland
END:VEVENT
BEGIN:VEVENT
DTSTART;TZID=Europe/Berlin:20251224T183000
DTEND;TZID=Europe/Berlin:20251224T193000
DTSTAMP:20260423T131156
CREATED:20251105T121910Z
LAST-MODIFIED:20251224T180412Z
UID:17701-1766601000-1766604600@view-wp.heiliggeist-ratingen.de
SUMMARY:Hirtenmesse
DESCRIPTION:
URL:https://view-wp.heiliggeist-ratingen.de/event/hirtenmesse
LOCATION:St. Josef Kirche\, Bachstraße 8\, 40878 Ratingen\, Deutschland
END:VEVENT
BEGIN:VEVENT
DTSTART;TZID=Europe/Berlin:20251224T214000
DTEND;TZID=Europe/Berlin:20251224T220000
DTSTAMP:20260423T131156
CREATED:20251105T121911Z
LAST-MODIFIED:20251224T201909Z
UID:17702-1766612400-1766613600@view-wp.heiliggeist-ratingen.de
SUMMARY:Adventssingen
DESCRIPTION:
URL:https://view-wp.heiliggeist-ratingen.de/event/adventssingen-3
LOCATION:Heilig Geist Kirche\, Maximilian-Kolbe-Platz\, 40880 Ratingen
END:VEVENT
BEGIN:VEVENT
DTSTART;TZID=Europe/Berlin:20251224T220000
DTEND;TZID=Europe/Berlin:20251224T230000
DTSTAMP:20260423T131156
CREATED:20251105T121911Z
LAST-MODIFIED:20251224T211918Z
UID:17703-1766613600-1766617200@view-wp.heiliggeist-ratingen.de
SUMMARY:Christmette
DESCRIPTION:
URL:https://view-wp.heiliggeist-ratingen.de/event/christmette-2
LOCATION:Heilig Geist Kirche\, Maximilian-Kolbe-Platz\, 40880 Ratingen
END:VEVENT
BEGIN:VEVENT
DTSTART;TZID=Europe/Berlin:20251225T090000
DTEND;TZID=Europe/Berlin:20251225T100000
DTSTAMP:20260423T131156
CREATED:20251105T121911Z
LAST-MODIFIED:20251225T081911Z
UID:17704-1766653200-1766656800@view-wp.heiliggeist-ratingen.de
SUMMARY:Festmesse
DESCRIPTION:
URL:https://view-wp.heiliggeist-ratingen.de/event/festmesse-14
LOCATION:Heilig Geist Kirche\, Maximilian-Kolbe-Platz\, 40880 Ratingen
END:VEVENT
BEGIN:VEVENT
DTSTART;TZID=Europe/Berlin:20251225T101500
DTEND;TZID=Europe/Berlin:20251225T111500
DTSTAMP:20260423T131156
CREATED:20251105T121911Z
LAST-MODIFIED:20251225T091911Z
UID:17705-1766657700-1766661300@view-wp.heiliggeist-ratingen.de
SUMMARY:Festmesse
DESCRIPTION:
URL:https://view-wp.heiliggeist-ratingen.de/event/festmesse-15
LOCATION:St. Marien\, Marienstraße 6\, 40880 Ratingen\, Deutschland
END:VEVENT
BEGIN:VEVENT
DTSTART;TZID=Europe/Berlin:20251225T113000
DTEND;TZID=Europe/Berlin:20251225T123000
DTSTAMP:20260423T131156
CREATED:20250129T183447Z
LAST-MODIFIED:20250616T164918Z
UID:11228-1766662200-1766665800@view-wp.heiliggeist-ratingen.de
SUMMARY:SPÄTLESE-Spaß-Singers
DESCRIPTION:
URL:https://view-wp.heiliggeist-ratingen.de/event/spaetlese-spass-singers-253
LOCATION:Foyer Pfarrsaal Hl. Geist\, Maximilian-Kolbe-Platz\, 40880 Ratingen
END:VEVENT
BEGIN:VEVENT
DTSTART;TZID=Europe/Berlin:20251225T113000
DTEND;TZID=Europe/Berlin:20251225T123000
DTSTAMP:20260423T131156
CREATED:20251105T121911Z
LAST-MODIFIED:20251225T111918Z
UID:17706-1766662200-1766665800@view-wp.heiliggeist-ratingen.de
SUMMARY:Festmesse
DESCRIPTION:
URL:https://view-wp.heiliggeist-ratingen.de/event/festmesse-16
LOCATION:Heilig Geist Kirche\, Maximilian-Kolbe-Platz\, 40880 Ratingen
END:VEVENT
BEGIN:VEVENT
DTSTART;TZID=Europe/Berlin:20251226T090000
DTEND;TZID=Europe/Berlin:20251226T100000
DTSTAMP:20260423T131156
CREATED:20251105T121911Z
LAST-MODIFIED:20251226T084910Z
UID:17707-1766739600-1766743200@view-wp.heiliggeist-ratingen.de
SUMMARY:Festmesse
DESCRIPTION:
URL:https://view-wp.heiliggeist-ratingen.de/event/festmesse-17
LOCATION:Heilig Geist Kirche\, Maximilian-Kolbe-Platz\, 40880 Ratingen
END:VEVENT
BEGIN:VEVENT
DTSTART;TZID=Europe/Berlin:20251226T101500
DTEND;TZID=Europe/Berlin:20251226T111500
DTSTAMP:20260423T131156
CREATED:20251105T121911Z
LAST-MODIFIED:20251226T094910Z
UID:17708-1766744100-1766747700@view-wp.heiliggeist-ratingen.de
SUMMARY:Festmesse
DESCRIPTION:
URL:https://view-wp.heiliggeist-ratingen.de/event/festmesse-18
LOCATION:St. Marien\, Marienstraße 6\, 40880 Ratingen\, Deutschland
END:VEVENT
BEGIN:VEVENT
DTSTART;TZID=Europe/Berlin:20251226T113000
DTEND;TZID=Europe/Berlin:20251226T123000
DTSTAMP:20260423T131156
CREATED:20251105T121912Z
LAST-MODIFIED:20251226T104925Z
UID:17709-1766748600-1766752200@view-wp.heiliggeist-ratingen.de
SUMMARY:Festmesse
DESCRIPTION:
URL:https://view-wp.heiliggeist-ratingen.de/event/festmesse-19
LOCATION:Heilig Geist Kirche\, Maximilian-Kolbe-Platz\, 40880 Ratingen
END:VEVENT
BEGIN:VEVENT
DTSTART;TZID=Europe/Berlin:20251228T150000
DTEND;TZID=Europe/Berlin:20251228T180000
DTSTAMP:20260423T131156
CREATED:20250630T174840Z
LAST-MODIFIED:20251228T160409Z
UID:15194-1766934000-1766944800@view-wp.heiliggeist-ratingen.de
SUMMARY:--ABGESAGT--:Rückblick unseres Pfarrlebens\, die Jahre 2001 bis 2024\, in der Pause gibt es Kaffee und Kuchen
DESCRIPTION:
URL:https://view-wp.heiliggeist-ratingen.de/event/rueckblick-unseres-pfarrlebens-die-jahre-2001-bis-2024-in-der-pause-gibt-es-kaffee-und-kuchen
LOCATION:Pfarrsaal Heilig Geist\, Maximilian-Kolbe-Platz 40\, 40880 Ratingen\, Deutschland
END:VEVENT
BEGIN:VEVENT
DTSTART;TZID=Europe/Berlin:20251231T170000
DTEND;TZID=Europe/Berlin:20251231T180000
DTSTAMP:20260423T131156
CREATED:20251105T121912Z
LAST-MODIFIED:20251231T160411Z
UID:17710-1767200400-1767204000@view-wp.heiliggeist-ratingen.de
SUMMARY:Jahresschlussmesse
DESCRIPTION:
URL:https://view-wp.heiliggeist-ratingen.de/event/jahresschlussmesse-2
LOCATION:Heilig Geist Kirche\, Maximilian-Kolbe-Platz\, 40880 Ratingen
END:VEVENT
END:VCALENDAR