BEGIN:VCALENDAR
VERSION:2.0
PRODID:-//Heilig Geist, Ratingen - ECPv6.2.4//NONSGML v1.0//EN
CALSCALE:GREGORIAN
METHOD:PUBLISH
X-ORIGINAL-URL:https://view-wp.heiliggeist-ratingen.de
X-WR-CALDESC:Veranstaltungen für Heilig Geist, Ratingen
REFRESH-INTERVAL;VALUE=DURATION:PT1H
X-Robots-Tag:noindex
X-PUBLISHED-TTL:PT1H
BEGIN:VTIMEZONE
TZID:Europe/Berlin
BEGIN:DAYLIGHT
TZOFFSETFROM:+0100
TZOFFSETTO:+0200
TZNAME:CEST
DTSTART:20260329T010000
END:DAYLIGHT
BEGIN:STANDARD
TZOFFSETFROM:+0200
TZOFFSETTO:+0100
TZNAME:CET
DTSTART:20261025T010000
END:STANDARD
END:VTIMEZONE
BEGIN:VEVENT
DTSTART;VALUE=DATE:20261017
DTEND;VALUE=DATE:20261025
DTSTAMP:20260425T150704
CREATED:20251211T112515Z
LAST-MODIFIED:20260320T131945Z
UID:18094-1792195200-1792886399@view-wp.heiliggeist-ratingen.de
SUMMARY:Ferienfreizeit im Eichsfeld
DESCRIPTION:
URL:https://view-wp.heiliggeist-ratingen.de/event/ferienfreizeit-im-eichsfeld-3
END:VEVENT
END:VCALENDAR