BEGIN:VCALENDAR
VERSION:2.0
PRODID:-//Heilig Geist, Ratingen - ECPv6.2.4//NONSGML v1.0//EN
CALSCALE:GREGORIAN
METHOD:PUBLISH
X-ORIGINAL-URL:https://view-wp.heiliggeist-ratingen.de
X-WR-CALDESC:Veranstaltungen für Heilig Geist, Ratingen
REFRESH-INTERVAL;VALUE=DURATION:PT1H
X-Robots-Tag:noindex
X-PUBLISHED-TTL:PT1H
BEGIN:VTIMEZONE
TZID:Europe/Berlin
BEGIN:DAYLIGHT
TZOFFSETFROM:+0100
TZOFFSETTO:+0200
TZNAME:CEST
DTSTART:20260329T010000
END:DAYLIGHT
BEGIN:STANDARD
TZOFFSETFROM:+0200
TZOFFSETTO:+0100
TZNAME:CET
DTSTART:20261025T010000
END:STANDARD
END:VTIMEZONE
BEGIN:VEVENT
DTSTART;TZID=Europe/Berlin:20260813T100000
DTEND;TZID=Europe/Berlin:20260813T120000
DTSTAMP:20260423T192818
CREATED:20260226T093423Z
LAST-MODIFIED:20260320T131943Z
UID:20328-1786615200-1786622400@view-wp.heiliggeist-ratingen.de
SUMMARY:Frauen in St. Marien: Frauenfrühstück
DESCRIPTION:
URL:https://view-wp.heiliggeist-ratingen.de/event/frauen-in-st-marien-frauenfruehstueck-8
LOCATION:Pfarrsaal St. Marien\, Marienstraße 4A\, 40880 Ratingen\, Deutschland
END:VEVENT
BEGIN:VEVENT
DTSTART;TZID=Europe/Berlin:20260813T113000
DTEND;TZID=Europe/Berlin:20260813T123000
DTSTAMP:20260423T192818
CREATED:20250129T183500Z
LAST-MODIFIED:20260320T131943Z
UID:11244-1786620600-1786624200@view-wp.heiliggeist-ratingen.de
SUMMARY:SPÄTLESE-Spaß-Singers
DESCRIPTION:
URL:https://view-wp.heiliggeist-ratingen.de/event/spaetlese-spass-singers-268
LOCATION:Foyer Pfarrsaal Hl. Geist\, Maximilian-Kolbe-Platz\, 40880 Ratingen
END:VEVENT
END:VCALENDAR