BEGIN:VCALENDAR
VERSION:2.0
PRODID:-//Heilig Geist, Ratingen - ECPv6.2.4//NONSGML v1.0//EN
CALSCALE:GREGORIAN
METHOD:PUBLISH
X-ORIGINAL-URL:https://view-wp.heiliggeist-ratingen.de
X-WR-CALDESC:Veranstaltungen für Heilig Geist, Ratingen
REFRESH-INTERVAL;VALUE=DURATION:PT1H
X-Robots-Tag:noindex
X-PUBLISHED-TTL:PT1H
BEGIN:VTIMEZONE
TZID:Europe/Berlin
BEGIN:DAYLIGHT
TZOFFSETFROM:+0100
TZOFFSETTO:+0200
TZNAME:CEST
DTSTART:20260329T010000
END:DAYLIGHT
BEGIN:STANDARD
TZOFFSETFROM:+0200
TZOFFSETTO:+0100
TZNAME:CET
DTSTART:20261025T010000
END:STANDARD
END:VTIMEZONE
BEGIN:VEVENT
DTSTART;VALUE=DATE:20260712
DTEND;VALUE=DATE:20260713
DTSTAMP:20260423T192858
CREATED:20260108T104935Z
LAST-MODIFIED:20260320T131942Z
UID:19070-1783814400-1783900799@view-wp.heiliggeist-ratingen.de
SUMMARY:Gemeindewallfahrt nach Kaiserswerth
DESCRIPTION:13:00 Uhr Statio in Heilig Geist\n13:15 Uhr Statio in St. Marien\n17:00 Uhr Vesper in der St. Suitbertus Basilika\, Kaiserswerth
URL:https://view-wp.heiliggeist-ratingen.de/event/gemeindewallfahrt-nach-kaiserswerth-3
END:VEVENT
END:VCALENDAR