BEGIN:VCALENDAR
VERSION:2.0
PRODID:-//Heilig Geist, Ratingen - ECPv6.2.4//NONSGML v1.0//EN
CALSCALE:GREGORIAN
METHOD:PUBLISH
X-ORIGINAL-URL:https://view-wp.heiliggeist-ratingen.de
X-WR-CALDESC:Veranstaltungen für Heilig Geist, Ratingen
REFRESH-INTERVAL;VALUE=DURATION:PT1H
X-Robots-Tag:noindex
X-PUBLISHED-TTL:PT1H
BEGIN:VTIMEZONE
TZID:Europe/Berlin
BEGIN:DAYLIGHT
TZOFFSETFROM:+0100
TZOFFSETTO:+0200
TZNAME:CEST
DTSTART:20260329T010000
END:DAYLIGHT
BEGIN:STANDARD
TZOFFSETFROM:+0200
TZOFFSETTO:+0100
TZNAME:CET
DTSTART:20261025T010000
END:STANDARD
END:VTIMEZONE
BEGIN:VEVENT
DTSTART;VALUE=DATE:20260604
DTEND;VALUE=DATE:20260605
DTSTAMP:20260423T144803
CREATED:20251218T180101Z
LAST-MODIFIED:20260320T131940Z
UID:18321-1780531200-1780617599@view-wp.heiliggeist-ratingen.de
SUMMARY:Fronleichnam
DESCRIPTION:
URL:https://view-wp.heiliggeist-ratingen.de/event/fronleichnam-3
END:VEVENT
BEGIN:VEVENT
DTSTART;TZID=Europe/Berlin:20260604T090000
DTEND;TZID=Europe/Berlin:20260604T113000
DTSTAMP:20260423T144803
CREATED:20251218T180101Z
LAST-MODIFIED:20260320T131940Z
UID:18320-1780563600-1780572600@view-wp.heiliggeist-ratingen.de
SUMMARY:Festmesse\, anschl. Fronleichnamsprozession
DESCRIPTION:
URL:https://view-wp.heiliggeist-ratingen.de/event/festmesse-anschl-fronleichnamsprozession-2
LOCATION:St. Marien\, Marienstraße 6\, 40880 Ratingen\, Deutschland
END:VEVENT
END:VCALENDAR