BEGIN:VCALENDAR
VERSION:2.0
PRODID:-//Heilig Geist, Ratingen - ECPv6.2.4//NONSGML v1.0//EN
CALSCALE:GREGORIAN
METHOD:PUBLISH
X-ORIGINAL-URL:https://view-wp.heiliggeist-ratingen.de
X-WR-CALDESC:Veranstaltungen für Heilig Geist, Ratingen
REFRESH-INTERVAL;VALUE=DURATION:PT1H
X-Robots-Tag:noindex
X-PUBLISHED-TTL:PT1H
BEGIN:VTIMEZONE
TZID:Europe/Berlin
BEGIN:DAYLIGHT
TZOFFSETFROM:+0100
TZOFFSETTO:+0200
TZNAME:CEST
DTSTART:20260329T010000
END:DAYLIGHT
BEGIN:STANDARD
TZOFFSETFROM:+0200
TZOFFSETTO:+0100
TZNAME:CET
DTSTART:20261025T010000
END:STANDARD
END:VTIMEZONE
BEGIN:VEVENT
DTSTART;TZID=Europe/Berlin:20260529T193000
DTEND;TZID=Europe/Berlin:20260529T203000
DTSTAMP:20260421T115140
CREATED:20260129T173423Z
LAST-MODIFIED:20260320T131940Z
UID:19640-1780083000-1780086600@view-wp.heiliggeist-ratingen.de
SUMMARY:Ökum. Taizégebet\, anschl. Gepräch bei Brot und Wein
DESCRIPTION:
URL:https://view-wp.heiliggeist-ratingen.de/event/oekum-taizegebet-anschl-gepraech-bei-brot-und-wein
LOCATION:Krypta Heilig Geist Kirche\, Maximilian-Kolbe-Platz\, 40880 Ratingen
END:VEVENT
END:VCALENDAR