BEGIN:VCALENDAR
VERSION:2.0
PRODID:-//Heilig Geist, Ratingen - ECPv6.2.4//NONSGML v1.0//EN
CALSCALE:GREGORIAN
METHOD:PUBLISH
X-WR-CALNAME:Heilig Geist, Ratingen
X-ORIGINAL-URL:https://view-wp.heiliggeist-ratingen.de
X-WR-CALDESC:Veranstaltungen für Heilig Geist, Ratingen
REFRESH-INTERVAL;VALUE=DURATION:PT1H
X-Robots-Tag:noindex
X-PUBLISHED-TTL:PT1H
BEGIN:VTIMEZONE
TZID:Europe/Berlin
BEGIN:DAYLIGHT
TZOFFSETFROM:+0100
TZOFFSETTO:+0200
TZNAME:CEST
DTSTART:20260329T010000
END:DAYLIGHT
BEGIN:STANDARD
TZOFFSETFROM:+0200
TZOFFSETTO:+0100
TZNAME:CET
DTSTART:20261025T010000
END:STANDARD
END:VTIMEZONE
BEGIN:VEVENT
DTSTART;VALUE=DATE:20260518
DTEND;VALUE=DATE:20260521
DTSTAMP:20260421T120353
CREATED:20251218T180058Z
LAST-MODIFIED:20260320T131939Z
UID:18316-1779062400-1779321599@view-wp.heiliggeist-ratingen.de
SUMMARY:kfd und offener Frauentreff: Fahrt zur Wasserburg Rindern\, Kleve
DESCRIPTION:
URL:https://view-wp.heiliggeist-ratingen.de/event/kfd-und-offener-frauentreff-fahrt-zur-wasserburg-rindern-kleve-2
LOCATION:Wasserburg Rindern – Katholisches Bildungszentrum\, Wasserburgallee 120\, 47533 Kleve\, Deutschland
END:VEVENT
END:VCALENDAR