BEGIN:VCALENDAR
VERSION:2.0
PRODID:-//Heilig Geist, Ratingen - ECPv6.2.4//NONSGML v1.0//EN
CALSCALE:GREGORIAN
METHOD:PUBLISH
X-ORIGINAL-URL:https://view-wp.heiliggeist-ratingen.de
X-WR-CALDESC:Veranstaltungen für Heilig Geist, Ratingen
REFRESH-INTERVAL;VALUE=DURATION:PT1H
X-Robots-Tag:noindex
X-PUBLISHED-TTL:PT1H
BEGIN:VTIMEZONE
TZID:Europe/Berlin
BEGIN:DAYLIGHT
TZOFFSETFROM:+0100
TZOFFSETTO:+0200
TZNAME:CEST
DTSTART:20260329T010000
END:DAYLIGHT
BEGIN:STANDARD
TZOFFSETFROM:+0200
TZOFFSETTO:+0100
TZNAME:CET
DTSTART:20261025T010000
END:STANDARD
END:VTIMEZONE
BEGIN:VEVENT
DTSTART;TZID=Europe/Berlin:20260321T100000
DTEND;TZID=Europe/Berlin:20260321T120000
DTSTAMP:20260423T131118
CREATED:20260102T170420Z
LAST-MODIFIED:20260320T131935Z
UID:18762-1774087200-1774094400@view-wp.heiliggeist-ratingen.de
SUMMARY:Kinderkleiderbörse
DESCRIPTION:
URL:https://view-wp.heiliggeist-ratingen.de/event/kinderkleiderboerse-8
LOCATION:Pfarrsaal Heilig Geist\, Maximilian-Kolbe-Platz 40\, 40880 Ratingen\, Deutschland
END:VEVENT
BEGIN:VEVENT
DTSTART;TZID=Europe/Berlin:20260321T170000
DTEND;TZID=Europe/Berlin:20260321T180000
DTSTAMP:20260423T131118
CREATED:20260102T180422Z
LAST-MODIFIED:20260320T131935Z
UID:18785-1774112400-1774116000@view-wp.heiliggeist-ratingen.de
SUMMARY:KAB St. Josef: Festmesse zum 50-jährigen Jubiläum der KAB-Gruppe
DESCRIPTION:
URL:https://view-wp.heiliggeist-ratingen.de/event/kab-st-josef-festmesse-zum-50-jaehrigen-jubilaeum-der-kab-gruppe
LOCATION:Heilig Geist Kirche\, Maximilian-Kolbe-Platz\, 40880 Ratingen
END:VEVENT
BEGIN:VEVENT
DTSTART;TZID=Europe/Berlin:20260321T170000
DTEND;TZID=Europe/Berlin:20260321T200000
DTSTAMP:20260423T131118
CREATED:20260312T111910Z
LAST-MODIFIED:20260320T131935Z
UID:20691-1774112400-1774123200@view-wp.heiliggeist-ratingen.de
SUMMARY:Bußgang der Männer von St. Josef nach St. Suitbertus\, Schützenstraße
DESCRIPTION:
URL:https://view-wp.heiliggeist-ratingen.de/event/bussgang-der-maenner-von-st-josef-nach-st-suitbertus-schuetzenstrasse
LOCATION:St. Josef Kirche\, Bachstraße 8\, 40878 Ratingen\, Deutschland
END:VEVENT
BEGIN:VEVENT
DTSTART;TZID=Europe/Berlin:20260321T180000
DTEND;TZID=Europe/Berlin:20260321T210000
DTSTAMP:20260423T131118
CREATED:20260102T180422Z
LAST-MODIFIED:20260320T131935Z
UID:18786-1774116000-1774126800@view-wp.heiliggeist-ratingen.de
SUMMARY:KAB St. Josef: Jubiläumsfeier der KAB mit Programm und Büfett
DESCRIPTION:– nur mit Voranmeldung bei Günter Kraus\, Tel. 02102 – 46380 AB –
URL:https://view-wp.heiliggeist-ratingen.de/event/kab-st-josef-jubilaeumsfeier-der-kab-mit-programm-und-buefett
LOCATION:Pfarrsaal Heilig Geist\, Maximilian-Kolbe-Platz 40\, 40880 Ratingen\, Deutschland
END:VEVENT
END:VCALENDAR