BEGIN:VCALENDAR
VERSION:2.0
PRODID:-//Heilig Geist, Ratingen - ECPv6.2.4//NONSGML v1.0//EN
CALSCALE:GREGORIAN
METHOD:PUBLISH
X-WR-CALNAME:Heilig Geist, Ratingen
X-ORIGINAL-URL:https://view-wp.heiliggeist-ratingen.de
X-WR-CALDESC:Veranstaltungen für Heilig Geist, Ratingen
REFRESH-INTERVAL;VALUE=DURATION:PT1H
X-Robots-Tag:noindex
X-PUBLISHED-TTL:PT1H
BEGIN:VTIMEZONE
TZID:Europe/Berlin
BEGIN:DAYLIGHT
TZOFFSETFROM:+0100
TZOFFSETTO:+0200
TZNAME:CEST
DTSTART:20260329T010000
END:DAYLIGHT
BEGIN:STANDARD
TZOFFSETFROM:+0200
TZOFFSETTO:+0100
TZNAME:CET
DTSTART:20261025T010000
END:STANDARD
END:VTIMEZONE
BEGIN:VEVENT
DTSTART;TZID=Europe/Berlin:20260211T143000
DTEND;TZID=Europe/Berlin:20260211T200000
DTSTAMP:20260423T112950
CREATED:20250826T090436Z
LAST-MODIFIED:20260108T084941Z
UID:15938-1770820200-1770840000@view-wp.heiliggeist-ratingen.de
SUMMARY:Frauen in St. Marien: Frauenkarneval
DESCRIPTION:
URL:https://view-wp.heiliggeist-ratingen.de/event/frauen-in-st-marien-frauenkarneval-2
LOCATION:Pfarrsaal St. Marien\, Marienstraße 4A\, 40880 Ratingen\, Deutschland
END:VEVENT
BEGIN:VEVENT
DTSTART;TZID=Europe/Berlin:20260211T150000
DTEND;TZID=Europe/Berlin:20260211T163000
DTSTAMP:20260423T112950
CREATED:20251211T112509Z
LAST-MODIFIED:20260211T150409Z
UID:18091-1770822000-1770827400@view-wp.heiliggeist-ratingen.de
SUMMARY:Ökum. Seniorenclub: Mer losse de Dom in ....?
DESCRIPTION:
URL:https://view-wp.heiliggeist-ratingen.de/event/oekum-seniorenclub-mer-losse-de-dom-in
LOCATION:Versöhnungskirche – Evangelische Kirchengemeinde Ratingen\, Maximilian-Kolbe-Platz 18b\, 40880 Ratingen\, Deutschland
END:VEVENT
BEGIN:VEVENT
DTSTART;TZID=Europe/Berlin:20260211T193000
DTEND;TZID=Europe/Berlin:20260211T213000
DTSTAMP:20260423T112950
CREATED:20260102T170416Z
LAST-MODIFIED:20260211T201911Z
UID:18758-1770838200-1770845400@view-wp.heiliggeist-ratingen.de
SUMMARY:Kontaktkreis 86: Treffen
DESCRIPTION:
URL:https://view-wp.heiliggeist-ratingen.de/event/kontaktkreis-86-treffen-7
LOCATION:Pfarrsaal Heilig Geist\, Maximilian-Kolbe-Platz 40\, 40880 Ratingen\, Deutschland
END:VEVENT
END:VCALENDAR