BEGIN:VCALENDAR
VERSION:2.0
PRODID:-//Heilig Geist, Ratingen - ECPv6.2.4//NONSGML v1.0//EN
CALSCALE:GREGORIAN
METHOD:PUBLISH
X-ORIGINAL-URL:https://view-wp.heiliggeist-ratingen.de
X-WR-CALDESC:Veranstaltungen für Heilig Geist, Ratingen
REFRESH-INTERVAL;VALUE=DURATION:PT1H
X-Robots-Tag:noindex
X-PUBLISHED-TTL:PT1H
BEGIN:VTIMEZONE
TZID:Europe/Berlin
BEGIN:DAYLIGHT
TZOFFSETFROM:+0100
TZOFFSETTO:+0200
TZNAME:CEST
DTSTART:20260329T010000
END:DAYLIGHT
BEGIN:STANDARD
TZOFFSETFROM:+0200
TZOFFSETTO:+0100
TZNAME:CET
DTSTART:20261025T010000
END:STANDARD
END:VTIMEZONE
BEGIN:VEVENT
DTSTART;TZID=Europe/Berlin:20260209T150000
DTEND;TZID=Europe/Berlin:20260209T180000
DTSTAMP:20260423T131200
CREATED:20260102T170415Z
LAST-MODIFIED:20260209T163410Z
UID:18757-1770649200-1770660000@view-wp.heiliggeist-ratingen.de
SUMMARY:KAB St. Josef: Wir feiern Karneval mit Musik\, Berliner Ballen\, Kaffee\, Mett- und Käsebrötchen
DESCRIPTION:– nur mit Voranmeldung bei Günter Kraus\, Tel. 02102 – 46380 AB –
URL:https://view-wp.heiliggeist-ratingen.de/event/kab-st-josef-wir-feiern-karneval-mit-musik-berliner-ballen-kaffee-mett-und-kaesebroetchen
LOCATION:Pfarrsaal Heilig Geist\, Maximilian-Kolbe-Platz 40\, 40880 Ratingen\, Deutschland
END:VEVENT
END:VCALENDAR