BEGIN:VCALENDAR
VERSION:2.0
PRODID:-//Heilig Geist, Ratingen - ECPv6.2.4//NONSGML v1.0//EN
CALSCALE:GREGORIAN
METHOD:PUBLISH
X-WR-CALNAME:Heilig Geist, Ratingen
X-ORIGINAL-URL:https://view-wp.heiliggeist-ratingen.de
X-WR-CALDESC:Veranstaltungen für Heilig Geist, Ratingen
REFRESH-INTERVAL;VALUE=DURATION:PT1H
X-Robots-Tag:noindex
X-PUBLISHED-TTL:PT1H
BEGIN:VTIMEZONE
TZID:Europe/Berlin
BEGIN:DAYLIGHT
TZOFFSETFROM:+0100
TZOFFSETTO:+0200
TZNAME:CEST
DTSTART:20260329T010000
END:DAYLIGHT
BEGIN:STANDARD
TZOFFSETFROM:+0200
TZOFFSETTO:+0100
TZNAME:CET
DTSTART:20261025T010000
END:STANDARD
END:VTIMEZONE
BEGIN:VEVENT
DTSTART;TZID=Europe/Berlin:20260203T190000
DTEND;TZID=Europe/Berlin:20260203T211500
DTSTAMP:20260423T112919
CREATED:20251216T123413Z
LAST-MODIFIED:20260203T191918Z
UID:18248-1770145200-1770153300@view-wp.heiliggeist-ratingen.de
SUMMARY:kfd St. Josef: ZOOM WGT - Studientag digital des Diözesanverbandes
DESCRIPTION:
URL:https://view-wp.heiliggeist-ratingen.de/event/kfd-st-josef-zoom-wgt-studientag-digital-des-dioezesanverbandes
END:VEVENT
END:VCALENDAR