BEGIN:VCALENDAR
VERSION:2.0
PRODID:-//Heilig Geist, Ratingen - ECPv6.2.4//NONSGML v1.0//EN
CALSCALE:GREGORIAN
METHOD:PUBLISH
X-ORIGINAL-URL:https://view-wp.heiliggeist-ratingen.de
X-WR-CALDESC:Veranstaltungen für Heilig Geist, Ratingen
REFRESH-INTERVAL;VALUE=DURATION:PT1H
X-Robots-Tag:noindex
X-PUBLISHED-TTL:PT1H
BEGIN:VTIMEZONE
TZID:Europe/Berlin
BEGIN:DAYLIGHT
TZOFFSETFROM:+0100
TZOFFSETTO:+0200
TZNAME:CEST
DTSTART:20250330T010000
END:DAYLIGHT
BEGIN:STANDARD
TZOFFSETFROM:+0200
TZOFFSETTO:+0100
TZNAME:CET
DTSTART:20251026T010000
END:STANDARD
END:VTIMEZONE
BEGIN:VEVENT
DTSTART;TZID=Europe/Berlin:20251224T143000
DTEND;TZID=Europe/Berlin:20251224T153000
DTSTAMP:20260425T133211
CREATED:20251105T121910Z
LAST-MODIFIED:20251224T140411Z
UID:17699-1766586600-1766590200@view-wp.heiliggeist-ratingen.de
SUMMARY:Wortgottesdienst für Kinder mit Krippenspiel
DESCRIPTION:
URL:https://view-wp.heiliggeist-ratingen.de/event/wortgottesdienst-fuer-kinder-mit-krippenspiel
LOCATION:Heilig Geist Kirche\, Maximilian-Kolbe-Platz\, 40880 Ratingen
END:VEVENT
BEGIN:VEVENT
DTSTART;TZID=Europe/Berlin:20251224T170000
DTEND;TZID=Europe/Berlin:20251224T180000
DTSTAMP:20260425T133211
CREATED:20251105T121910Z
LAST-MODIFIED:20251224T160413Z
UID:17700-1766595600-1766599200@view-wp.heiliggeist-ratingen.de
SUMMARY:Familienmesse zum Heiligen Abend
DESCRIPTION:
URL:https://view-wp.heiliggeist-ratingen.de/event/familienmesse-zum-heiligen-abend
LOCATION:St. Marien\, Marienstraße 6\, 40880 Ratingen\, Deutschland
END:VEVENT
BEGIN:VEVENT
DTSTART;TZID=Europe/Berlin:20251224T183000
DTEND;TZID=Europe/Berlin:20251224T193000
DTSTAMP:20260425T133211
CREATED:20251105T121910Z
LAST-MODIFIED:20251224T180412Z
UID:17701-1766601000-1766604600@view-wp.heiliggeist-ratingen.de
SUMMARY:Hirtenmesse
DESCRIPTION:
URL:https://view-wp.heiliggeist-ratingen.de/event/hirtenmesse
LOCATION:St. Josef Kirche\, Bachstraße 8\, 40878 Ratingen\, Deutschland
END:VEVENT
BEGIN:VEVENT
DTSTART;TZID=Europe/Berlin:20251224T214000
DTEND;TZID=Europe/Berlin:20251224T220000
DTSTAMP:20260425T133211
CREATED:20251105T121911Z
LAST-MODIFIED:20251224T201909Z
UID:17702-1766612400-1766613600@view-wp.heiliggeist-ratingen.de
SUMMARY:Adventssingen
DESCRIPTION:
URL:https://view-wp.heiliggeist-ratingen.de/event/adventssingen-3
LOCATION:Heilig Geist Kirche\, Maximilian-Kolbe-Platz\, 40880 Ratingen
END:VEVENT
BEGIN:VEVENT
DTSTART;TZID=Europe/Berlin:20251224T220000
DTEND;TZID=Europe/Berlin:20251224T230000
DTSTAMP:20260425T133211
CREATED:20251105T121911Z
LAST-MODIFIED:20251224T211918Z
UID:17703-1766613600-1766617200@view-wp.heiliggeist-ratingen.de
SUMMARY:Christmette
DESCRIPTION:
URL:https://view-wp.heiliggeist-ratingen.de/event/christmette-2
LOCATION:Heilig Geist Kirche\, Maximilian-Kolbe-Platz\, 40880 Ratingen
END:VEVENT
END:VCALENDAR